BEGIN:VCALENDAR
VERSION:2.0
PRODID:-//Graz und Umgebung - Ausflugsziele, Veranstaltungen, Gemeinden - ECPv6.15.20//NONSGML v1.0//EN
CALSCALE:GREGORIAN
METHOD:PUBLISH
X-ORIGINAL-URL:https://www.obergraz.at
X-WR-CALDESC:Veranstaltungen für Graz und Umgebung - Ausflugsziele, Veranstaltungen, Gemeinden
REFRESH-INTERVAL;VALUE=DURATION:PT1H
X-Robots-Tag:noindex
X-PUBLISHED-TTL:PT1H
BEGIN:VTIMEZONE
TZID:Europe/Berlin
BEGIN:DAYLIGHT
TZOFFSETFROM:+0100
TZOFFSETTO:+0200
TZNAME:CEST
DTSTART:20260329T010000
END:DAYLIGHT
BEGIN:STANDARD
TZOFFSETFROM:+0200
TZOFFSETTO:+0100
TZNAME:CET
DTSTART:20261025T010000
END:STANDARD
BEGIN:DAYLIGHT
TZOFFSETFROM:+0100
TZOFFSETTO:+0200
TZNAME:CEST
DTSTART:20270328T010000
END:DAYLIGHT
BEGIN:STANDARD
TZOFFSETFROM:+0200
TZOFFSETTO:+0100
TZNAME:CET
DTSTART:20271031T010000
END:STANDARD
BEGIN:DAYLIGHT
TZOFFSETFROM:+0100
TZOFFSETTO:+0200
TZNAME:CEST
DTSTART:20280326T010000
END:DAYLIGHT
BEGIN:STANDARD
TZOFFSETFROM:+0200
TZOFFSETTO:+0100
TZNAME:CET
DTSTART:20281029T010000
END:STANDARD
END:VTIMEZONE
BEGIN:VEVENT
DTSTART;TZID=Europe/Berlin:20270130T200000
DTEND;TZID=Europe/Berlin:20270201T020000
DTSTAMP:20260424T141637
CREATED:20260423T144131Z
LAST-MODIFIED:20260423T144311Z
UID:3134-1801339200-1801447200@www.obergraz.at
SUMMARY:Opernredoute 2027 Graz
DESCRIPTION:Die Opernredoute zählt zu den klassischen Ballabenden des steirischen Winters und verbindet den besonderen Rahmen eines Opernhauses mit einer langen Nacht aus Tanz\, Musik und festlicher Stimmung. \nDie Ausgabe 2027 ist am 31. Jänner 2027 in Oper Graz\, Graz angesetzt und schafft damit einen klar umrissenen Rahmen für das jeweilige Format. Im Mittelpunkt stehen Tanzflächen\, musikalische Programmpunkte\, ein gesellschaftlicher Rahmen und jene typische Mischung aus Eleganz\, Geselligkeit und regionalem Flair\, die einen großen Ball in der Steiermark ausmacht. Wer Bälle schätzt\, findet hier genau jenen Rahmen\, in dem sich Eröffnung\, Musik\, Kulinarik und lange Ballnacht zu einem stimmigen Gesamtbild verbinden. \nDer Abend steht ganz im Zeichen festlicher Kleidung\, klassischer Eröffnungsmomente und einer Ballnacht\, die Tanz\, Begegnung und Tradition miteinander verbindet. Gerade weil der Termin auf einen klaren Tag konzentriert ist\, entsteht vor Ort meist eine dichte Atmosphäre: viele Eindrücke in kurzer Zeit\, hohe Präsenz im Ortsbild und ein gut spürbarer gemeinsamer Fokus. Ein Ballabend funktioniert dabei nicht nur über Musik und Tanz\, sondern auch über den Ablauf des Abends selbst: Ankommen\, Eröffnung\, Begegnungen\, Wechsel zwischen Tanzfläche und Rückzugsorten und das allmähliche Hineinwachsen in die Nacht. I \nIn Summe steht bei Opernredoute 2027 Graz nicht eine einzelne Szene im Vordergrund\, sondern das Gesamtbild aus Anlass\, Ort\, Publikum und Stimmung. Genau dieses Zusammenspiel macht den Termin am 31. Jänner 2027 in Oper Graz\, Graz zu einem eigenständigen Erlebnis mit klar erkennbarem Charakter. Wer länger vor Ort bleibt\, erlebt meist mehr als nur das Hauptprogramm. Auch die Zwischenräume\, Gespräche\, Perspektivwechsel und die Veränderung der Stimmung im Lauf des Tages oder Abends gehören dazu. Gerade darin liegt oft jene Qualität\, wegen der solche Termine in Erinnerung bleiben und über den unmittelbaren Anlass hinaus wirken. Wer länger vor Ort bleibt\, erlebt meist mehr als nur das Hauptprogramm. Auch die Zwischenräume\, Gespräche\, Perspektivwechsel und die Veränderung der Stimmung im Lauf des Tages oder Abends gehören dazu. Gerade darin liegt oft jene Qualität\, wegen der solche Termine in Erinnerung bleiben und über den unmittelbaren Anlass hinaus wirken.
URL:https://www.obergraz.at/de/veranstaltungen/opernredoute-graz
LOCATION:Oper Graz
CATEGORIES:Ball
ATTACH;FMTTYPE=image/jpeg:https://www.obergraz.at/wp-content/uploads/2026/04/opernredoute_1.jpg
END:VEVENT
END:VCALENDAR